BEGIN:VCALENDAR
VERSION:2.0
PRODID:-//Ted Runcie - ECPv6.15.15//NONSGML v1.0//EN
CALSCALE:GREGORIAN
METHOD:PUBLISH
X-WR-CALNAME:Ted Runcie
X-ORIGINAL-URL:https://tedruncie.ca
X-WR-CALDESC:Events for Ted Runcie
REFRESH-INTERVAL;VALUE=DURATION:PT1H
X-Robots-Tag:noindex
X-PUBLISHED-TTL:PT1H
BEGIN:VTIMEZONE
TZID:America/Toronto
BEGIN:DAYLIGHT
TZOFFSETFROM:-0500
TZOFFSETTO:-0400
TZNAME:EDT
DTSTART:20230312T070000
END:DAYLIGHT
BEGIN:STANDARD
TZOFFSETFROM:-0400
TZOFFSETTO:-0500
TZNAME:EST
DTSTART:20231105T060000
END:STANDARD
BEGIN:DAYLIGHT
TZOFFSETFROM:-0500
TZOFFSETTO:-0400
TZNAME:EDT
DTSTART:20240310T070000
END:DAYLIGHT
BEGIN:STANDARD
TZOFFSETFROM:-0400
TZOFFSETTO:-0500
TZNAME:EST
DTSTART:20241103T060000
END:STANDARD
BEGIN:DAYLIGHT
TZOFFSETFROM:-0500
TZOFFSETTO:-0400
TZNAME:EDT
DTSTART:20250309T070000
END:DAYLIGHT
BEGIN:STANDARD
TZOFFSETFROM:-0400
TZOFFSETTO:-0500
TZNAME:EST
DTSTART:20251102T060000
END:STANDARD
END:VTIMEZONE
BEGIN:VEVENT
DTSTART;TZID=America/Toronto:20240210T193000
DTEND;TZID=America/Toronto:20240210T213000
DTSTAMP:20260422T075659
CREATED:20230515T180301Z
LAST-MODIFIED:20230516T120020Z
UID:45-1707593400-1707600600@tedruncie.ca
SUMMARY:Family Stories with The Scarborough Philharmonic Orchestra
DESCRIPTION:Featuring: Winds of the Scarborough Philharmonic Orchestra\, Ted Runcie\, conductor \nMusical stories from the global village\, with music by Mozart\, Joplin and local Canadian composers. \n*Ted Runcie (2023-24 Composer-in-Residence): An Anansi Odyssey\, for woodwind quintet and narrator (Premiere)\n*Bruno Degazio: The Inner Treasure\, from Three Tales of Rabbi Nachman\, for woodwind quintet and narrator (Premiere)\n*Lauren Greenberg: Peculiar Procession\, for woodwind quintet (Premiere)\nFavorites by Mozart and Joplin
URL:https://tedruncie.ca/event/family-stories/
LOCATION:St. Paul L’Amoreaux Anglican Church\, 3333 Finch Avenue East\, Scarborough\, Ontario\, M1W3P7\, Canada
ATTACH;FMTTYPE=image/png:https://tedruncie.ca/wp-content/uploads/2023/05/Ted-Runcie-round.png
END:VEVENT
END:VCALENDAR