BEGIN:VCALENDAR
VERSION:2.0
PRODID:-//Ted Runcie - ECPv6.15.15//NONSGML v1.0//EN
CALSCALE:GREGORIAN
METHOD:PUBLISH
X-WR-CALNAME:Ted Runcie
X-ORIGINAL-URL:https://tedruncie.ca
X-WR-CALDESC:Events for Ted Runcie
REFRESH-INTERVAL;VALUE=DURATION:PT1H
X-Robots-Tag:noindex
X-PUBLISHED-TTL:PT1H
BEGIN:VTIMEZONE
TZID:America/Toronto
BEGIN:DAYLIGHT
TZOFFSETFROM:-0500
TZOFFSETTO:-0400
TZNAME:EDT
DTSTART:20230312T070000
END:DAYLIGHT
BEGIN:STANDARD
TZOFFSETFROM:-0400
TZOFFSETTO:-0500
TZNAME:EST
DTSTART:20231105T060000
END:STANDARD
BEGIN:DAYLIGHT
TZOFFSETFROM:-0500
TZOFFSETTO:-0400
TZNAME:EDT
DTSTART:20240310T070000
END:DAYLIGHT
BEGIN:STANDARD
TZOFFSETFROM:-0400
TZOFFSETTO:-0500
TZNAME:EST
DTSTART:20241103T060000
END:STANDARD
BEGIN:DAYLIGHT
TZOFFSETFROM:-0500
TZOFFSETTO:-0400
TZNAME:EDT
DTSTART:20250309T070000
END:DAYLIGHT
BEGIN:STANDARD
TZOFFSETFROM:-0400
TZOFFSETTO:-0500
TZNAME:EST
DTSTART:20251102T060000
END:STANDARD
END:VTIMEZONE
BEGIN:VEVENT
DTSTART;TZID=America/Toronto:20240511T193000
DTEND;TZID=America/Toronto:20240511T220000
DTSTAMP:20260422T062013
CREATED:20230516T120632Z
LAST-MODIFIED:20230516T120632Z
UID:162-1715455800-1715464800@tedruncie.ca
SUMMARY:Laurentian Overture with the Scarborough Philharmonic Orchestra
DESCRIPTION:Laurentian Overture–World Premiere
URL:https://tedruncie.ca/event/laurentian-overture-with-the-scarborough-philharmonic-orchestra/
LOCATION:The Salvation Army Scarborough Citadel\, 2021 Lawrence Avenue East\, Scarborough\, Ontario\, M1R2Z2\, Canada
ATTACH;FMTTYPE=image/png:https://tedruncie.ca/wp-content/uploads/2023/05/spo-round.png
END:VEVENT
END:VCALENDAR