BEGIN:VCALENDAR
VERSION:2.0
PRODID:-//Ted Runcie - ECPv6.15.15//NONSGML v1.0//EN
CALSCALE:GREGORIAN
METHOD:PUBLISH
X-WR-CALNAME:Ted Runcie
X-ORIGINAL-URL:https://tedruncie.ca
X-WR-CALDESC:Events for Ted Runcie
REFRESH-INTERVAL;VALUE=DURATION:PT1H
X-Robots-Tag:noindex
X-PUBLISHED-TTL:PT1H
BEGIN:VTIMEZONE
TZID:America/Winnipeg
BEGIN:DAYLIGHT
TZOFFSETFROM:-0600
TZOFFSETTO:-0500
TZNAME:CDT
DTSTART:20230312T080000
END:DAYLIGHT
BEGIN:STANDARD
TZOFFSETFROM:-0500
TZOFFSETTO:-0600
TZNAME:CST
DTSTART:20231105T070000
END:STANDARD
BEGIN:DAYLIGHT
TZOFFSETFROM:-0600
TZOFFSETTO:-0500
TZNAME:CDT
DTSTART:20240310T080000
END:DAYLIGHT
BEGIN:STANDARD
TZOFFSETFROM:-0500
TZOFFSETTO:-0600
TZNAME:CST
DTSTART:20241103T070000
END:STANDARD
BEGIN:DAYLIGHT
TZOFFSETFROM:-0600
TZOFFSETTO:-0500
TZNAME:CDT
DTSTART:20250309T080000
END:DAYLIGHT
BEGIN:STANDARD
TZOFFSETFROM:-0500
TZOFFSETTO:-0600
TZNAME:CST
DTSTART:20251102T070000
END:STANDARD
END:VTIMEZONE
BEGIN:VEVENT
DTSTART;TZID=America/Winnipeg:20240417T193000
DTEND;TZID=America/Winnipeg:20240417T220000
DTSTAMP:20260422T061509
CREATED:20230516T114218Z
LAST-MODIFIED:20230516T114218Z
UID:150-1713382200-1713391200@tedruncie.ca
SUMMARY:Manitoba Chamber Orchestra
DESCRIPTION:with Desiree Abbey cello soloist – Crescent Arts Centre \n“Concertino” for cello and orchestra – World premiere
URL:https://tedruncie.ca/event/manitoba-chamber-orchestra/
LOCATION:Crescent Arts Centre\, 525 Wardlaw Avenue\, Winnipeg\, Manitoba\, R3L0L9\, Canada
ATTACH;FMTTYPE=image/webp:https://tedruncie.ca/wp-content/uploads/2023/05/Desiree-Abbey.webp
END:VEVENT
END:VCALENDAR