BEGIN:VCALENDAR
VERSION:2.0
PRODID:-//Ted Runcie - ECPv6.15.15//NONSGML v1.0//EN
CALSCALE:GREGORIAN
METHOD:PUBLISH
X-WR-CALNAME:Ted Runcie
X-ORIGINAL-URL:https://tedruncie.ca
X-WR-CALDESC:Events for Ted Runcie
REFRESH-INTERVAL;VALUE=DURATION:PT1H
X-Robots-Tag:noindex
X-PUBLISHED-TTL:PT1H
BEGIN:VTIMEZONE
TZID:America/Toronto
BEGIN:DAYLIGHT
TZOFFSETFROM:-0500
TZOFFSETTO:-0400
TZNAME:EDT
DTSTART:20250309T070000
END:DAYLIGHT
BEGIN:STANDARD
TZOFFSETFROM:-0400
TZOFFSETTO:-0500
TZNAME:EST
DTSTART:20251102T060000
END:STANDARD
BEGIN:DAYLIGHT
TZOFFSETFROM:-0500
TZOFFSETTO:-0400
TZNAME:EDT
DTSTART:20260308T070000
END:DAYLIGHT
BEGIN:STANDARD
TZOFFSETFROM:-0400
TZOFFSETTO:-0500
TZNAME:EST
DTSTART:20261101T060000
END:STANDARD
BEGIN:DAYLIGHT
TZOFFSETFROM:-0500
TZOFFSETTO:-0400
TZNAME:EDT
DTSTART:20270314T070000
END:DAYLIGHT
BEGIN:STANDARD
TZOFFSETFROM:-0400
TZOFFSETTO:-0500
TZNAME:EST
DTSTART:20271107T060000
END:STANDARD
END:VTIMEZONE
BEGIN:VEVENT
DTSTART;TZID=America/Toronto:20260213T190000
DTEND;TZID=America/Toronto:20260213T210000
DTSTAMP:20260422T095652
CREATED:20260211T180243Z
LAST-MODIFIED:20260211T181138Z
UID:297-1771009200-1771016400@tedruncie.ca
SUMMARY:Odin Quartet:  Quartet No. 2
DESCRIPTION:Un concert gratuït a càrrec del Odin Quartet\, formació d’origen canadenc amb una sòlida trajectòria reconeguda internacionalment. El quartet destaca per la seua mirada innovadora sobre la música clàssica i per la riquesa cultural dels seus integrants \nCom a artista convidada\, comptarem amb la prestigiosa clarinetista Kaye Royer\, solista i música d’orquestra amb una carrera internacional brillant\, que ha col·laborat amb destacades orquestres i artistes de renom. A més\, participarà el compositor Ronald Royer\, completant una experiència musical de gran nivell \nT’esperem per disfrutar d’una vesprada única\, plena de sensibilitat\, talent i emocions \n  \nEnglish Translation: \nA free concert by the Odin Quartet\, a Canadian ensemble with a solid and internationally recognized career. The quartet stands out for its innovative perspective on classical music and the cultural richness of its members \nAs a guest artist\, we will feature the prestigious clarinetist Kaye Royer\, a soloist and orchestral musician with a brilliant international career who has collaborated with leading orchestras and renowned artists. In addition\, composer Ronald Royer will participate\, completing a high-level musical experience \nWe look forward to seeing you there to enjoy a unique evening full of sensitivity\, talent\, and emotion
URL:https://tedruncie.ca/event/odin-quartet-quartet-no-2/
LOCATION:Centre Cultural Cirtobal Soler\, Carrer Dionis Chanza 14\, Alcasser\, 46290\, Spain
ATTACH;FMTTYPE=image/jpeg:https://tedruncie.ca/wp-content/uploads/2023/06/Odin-Quartet-new-scaled.webp
END:VEVENT
END:VCALENDAR