BEGIN:VCALENDAR
VERSION:2.0
PRODID:-//Ted Runcie - ECPv6.15.15//NONSGML v1.0//EN
CALSCALE:GREGORIAN
METHOD:PUBLISH
X-WR-CALNAME:Ted Runcie
X-ORIGINAL-URL:https://tedruncie.ca
X-WR-CALDESC:Events for Ted Runcie
REFRESH-INTERVAL;VALUE=DURATION:PT1H
X-Robots-Tag:noindex
X-PUBLISHED-TTL:PT1H
BEGIN:VTIMEZONE
TZID:America/Toronto
BEGIN:DAYLIGHT
TZOFFSETFROM:-0500
TZOFFSETTO:-0400
TZNAME:EDT
DTSTART:20250309T070000
END:DAYLIGHT
BEGIN:STANDARD
TZOFFSETFROM:-0400
TZOFFSETTO:-0500
TZNAME:EST
DTSTART:20251102T060000
END:STANDARD
BEGIN:DAYLIGHT
TZOFFSETFROM:-0500
TZOFFSETTO:-0400
TZNAME:EDT
DTSTART:20260308T070000
END:DAYLIGHT
BEGIN:STANDARD
TZOFFSETFROM:-0400
TZOFFSETTO:-0500
TZNAME:EST
DTSTART:20261101T060000
END:STANDARD
BEGIN:DAYLIGHT
TZOFFSETFROM:-0500
TZOFFSETTO:-0400
TZNAME:EDT
DTSTART:20270314T070000
END:DAYLIGHT
BEGIN:STANDARD
TZOFFSETFROM:-0400
TZOFFSETTO:-0500
TZNAME:EST
DTSTART:20271107T060000
END:STANDARD
END:VTIMEZONE
BEGIN:VEVENT
DTSTART;TZID=America/Toronto:20260212T190000
DTEND;TZID=America/Toronto:20260212T210000
DTSTAMP:20260422T082017
CREATED:20260211T164523Z
LAST-MODIFIED:20260211T174122Z
UID:284-1770922800-1770930000@tedruncie.ca
SUMMARY:Odin Quartet--String Quartet No. 2
DESCRIPTION:Directament des de Toronto\, arriba l’Odin Quartet amb Kaye Royer (clarinetista) com a artista convidada i el compositor Ronald Royer. Inspirats per l’esperit explorador i la set de coneixement del déu nòrdic que els dona nom\, aquest quartet fundat en 2015 redefineix la música clàssica a Llíria. Una experiència única que fusiona el llegat tradicional amb una visió contemporània i trencadora. No te’l perdes! Una cita imprescindible per a deixar-se portar per la creativitat\, la profunditat i el diàleg entre passat i futur. English:  Directly from Toronto\, the Odin Quartet arrives with Kaye Royer (clarinettist) as guest artist and composer Ronald Royer. Inspired by the exploratory spirit and thirst for knowledge of the Norse god for whom they are named\, this quartet—founded in 2015—redefines classical music in Llíria. A unique experience that fuses traditional legacy with a contemporary and groundbreaking vision. Don’t miss it! An essential event to let yourself be carried away by creativity\, depth\, and the dialogue between past and future.    
URL:https://tedruncie.ca/event/odin-quartet-string-quartet-no-2/
LOCATION:Esglesia de la Sang\, Valencia\, Liliria\, Spain
ATTACH;FMTTYPE=image/jpeg:https://tedruncie.ca/wp-content/uploads/2023/06/Odin-Quartet-new-scaled.webp
END:VEVENT
END:VCALENDAR