BEGIN:VCALENDAR
VERSION:2.0
PRODID:-//Ted Runcie - ECPv6.15.15//NONSGML v1.0//EN
CALSCALE:GREGORIAN
METHOD:PUBLISH
X-WR-CALNAME:Ted Runcie
X-ORIGINAL-URL:https://tedruncie.ca
X-WR-CALDESC:Events for Ted Runcie
REFRESH-INTERVAL;VALUE=DURATION:PT1H
X-Robots-Tag:noindex
X-PUBLISHED-TTL:PT1H
BEGIN:VTIMEZONE
TZID:America/Toronto
BEGIN:DAYLIGHT
TZOFFSETFROM:-0500
TZOFFSETTO:-0400
TZNAME:EDT
DTSTART:20220313T070000
END:DAYLIGHT
BEGIN:STANDARD
TZOFFSETFROM:-0400
TZOFFSETTO:-0500
TZNAME:EST
DTSTART:20221106T060000
END:STANDARD
BEGIN:DAYLIGHT
TZOFFSETFROM:-0500
TZOFFSETTO:-0400
TZNAME:EDT
DTSTART:20230312T070000
END:DAYLIGHT
BEGIN:STANDARD
TZOFFSETFROM:-0400
TZOFFSETTO:-0500
TZNAME:EST
DTSTART:20231105T060000
END:STANDARD
BEGIN:DAYLIGHT
TZOFFSETFROM:-0500
TZOFFSETTO:-0400
TZNAME:EDT
DTSTART:20240310T070000
END:DAYLIGHT
BEGIN:STANDARD
TZOFFSETFROM:-0400
TZOFFSETTO:-0500
TZNAME:EST
DTSTART:20241103T060000
END:STANDARD
END:VTIMEZONE
BEGIN:VEVENT
DTSTART;TZID=America/Toronto:20230619T120000
DTEND;TZID=America/Toronto:20230619T133000
DTSTAMP:20260422T101209
CREATED:20230616T110623Z
LAST-MODIFIED:20230616T125308Z
UID:236-1687176000-1687181400@tedruncie.ca
SUMMARY:Quartet No. 2 | Odin Quartet\, Musical Mondays
DESCRIPTION:Odin Quartet will be joined by Canadian-born Alex Panizza – Piano Professor at Catholic University in Buenos Aires – in an exciting selection of last movements from some of the best known string quartets and piano quintets of the classical repertoire\, as well as contemporary Canadian music. \nWorks will include: Haydn – Sunrise Quartet op. 76 Finale\, Mozart – Dissonance Quartet KV 465 Allegro Molto\, Beethoven – String Quartet Op. 18 Allegro\, Runcie – String Quartet No. 2 Gioco con parafrasi variegate\, Brahms – Piano Quartet No. 1 Rondo: Allegro\, Isaac Zee – Connotations\, Beethoven – String Quartet No. 2 Finale\, and Schumann – Piano Quintet Op. 44 Allegro ma non troppo.
URL:https://tedruncie.ca/event/quartet-no-2-odin-quartet-musical-mondays/
LOCATION:Church of the Holy Trinity\, Toronto\, 19 Trinity Square\, Toronto\, Ontario\, M5G 1B1\, Canada
ATTACH;FMTTYPE=image/jpeg:https://tedruncie.ca/wp-content/uploads/2023/06/Odin-Quartet-new-scaled.webp
END:VEVENT
END:VCALENDAR