BEGIN:VCALENDAR
VERSION:2.0
PRODID:-//Ted Runcie - ECPv6.15.15//NONSGML v1.0//EN
CALSCALE:GREGORIAN
METHOD:PUBLISH
X-WR-CALNAME:Ted Runcie
X-ORIGINAL-URL:https://tedruncie.ca
X-WR-CALDESC:Events for Ted Runcie
REFRESH-INTERVAL;VALUE=DURATION:PT1H
X-Robots-Tag:noindex
X-PUBLISHED-TTL:PT1H
BEGIN:VTIMEZONE
TZID:America/Toronto
BEGIN:DAYLIGHT
TZOFFSETFROM:-0500
TZOFFSETTO:-0400
TZNAME:EDT
DTSTART:20240310T070000
END:DAYLIGHT
BEGIN:STANDARD
TZOFFSETFROM:-0400
TZOFFSETTO:-0500
TZNAME:EST
DTSTART:20241103T060000
END:STANDARD
BEGIN:DAYLIGHT
TZOFFSETFROM:-0500
TZOFFSETTO:-0400
TZNAME:EDT
DTSTART:20250309T070000
END:DAYLIGHT
BEGIN:STANDARD
TZOFFSETFROM:-0400
TZOFFSETTO:-0500
TZNAME:EST
DTSTART:20251102T060000
END:STANDARD
BEGIN:DAYLIGHT
TZOFFSETFROM:-0500
TZOFFSETTO:-0400
TZNAME:EDT
DTSTART:20260308T070000
END:DAYLIGHT
BEGIN:STANDARD
TZOFFSETFROM:-0400
TZOFFSETTO:-0500
TZNAME:EST
DTSTART:20261101T060000
END:STANDARD
END:VTIMEZONE
BEGIN:VEVENT
DTSTART;TZID=America/Toronto:20250511T153000
DTEND;TZID=America/Toronto:20250511T173000
DTSTAMP:20260422T102947
CREATED:20250607T025739Z
LAST-MODIFIED:20250607T030213Z
UID:278-1746977400-1746984600@tedruncie.ca
SUMMARY:Ted Runcie: Anansi’s Odyssey – for narrator and wind quintet (Quebec premiere)
DESCRIPTION:Ensemble Obiora  – Florence Blain Mbaye\, narrator/ Jaelem Bhate\, Conductor
URL:https://tedruncie.ca/event/ted-runcie-anansis-odyssey-for-narrator-and-wind-quintet-quebec-premiere/
LOCATION:Centre Pierre Peladeau\, 300 Boulevard de Maisonneuve Est\, Montreal\, Quebec\, Canada
ATTACH;FMTTYPE=image/jpeg:https://tedruncie.ca/wp-content/uploads/2025/06/May-11-2025-Ted-Runcie-Anansis-Odyssey-narrator-conductor-and-quintet-copyB.jpg
END:VEVENT
END:VCALENDAR